BEGIN:VCALENDAR
VERSION:2.0
PRODID:-//Torquay Boardriders Club - ECPv5.4.0//NONSGML v1.0//EN
CALSCALE:GREGORIAN
METHOD:PUBLISH
X-WR-CALNAME:Torquay Boardriders Club
X-ORIGINAL-URL:https://torquayboardriders.org.au
X-WR-CALDESC:Events for Torquay Boardriders Club
BEGIN:VTIMEZONE
TZID:Australia/Melbourne
BEGIN:STANDARD
TZOFFSETFROM:+1100
TZOFFSETTO:+1000
TZNAME:AEST
DTSTART:20210403T160000
END:STANDARD
BEGIN:DAYLIGHT
TZOFFSETFROM:+1000
TZOFFSETTO:+1100
TZNAME:AEDT
DTSTART:20211002T160000
END:DAYLIGHT
END:VTIMEZONE
BEGIN:VEVENT
DTSTART;TZID=Australia/Melbourne:20210206T080000
DTEND;TZID=Australia/Melbourne:20210206T170000
DTSTAMP:20210226T102006
CREATED:20210215T073653Z
LAST-MODIFIED:20210215T074038Z
UID:623-1612598400-1612630800@torquayboardriders.org.au
SUMMARY:Juniors AGG 1
DESCRIPTION:
URL:https://torquayboardriders.org.au/events/juniors-agg-1-3/
LOCATION:Jan Juc
CATEGORIES:Aggregate,Junior
END:VEVENT
BEGIN:VEVENT
DTSTART;TZID=Australia/Melbourne:20210220T073000
DTEND;TZID=Australia/Melbourne:20210220T170000
DTSTAMP:20210226T102006
CREATED:20210215T073813Z
LAST-MODIFIED:20210215T074016Z
UID:625-1613806200-1613840400@torquayboardriders.org.au
SUMMARY:Seniors AGG 1
DESCRIPTION:
URL:https://torquayboardriders.org.au/events/seniors-agg-1-3/
LOCATION:Jan Juc
CATEGORIES:Aggregate,Seniors
END:VEVENT
END:VCALENDAR