BEGIN:VCALENDAR
VERSION:2.0
PRODID:-//Torquay Boardriders Club - ECPv4.8.1//NONSGML v1.0//EN
CALSCALE:GREGORIAN
METHOD:PUBLISH
X-WR-CALNAME:Torquay Boardriders Club
X-ORIGINAL-URL:http://torquayboardriders.org.au
X-WR-CALDESC:Events for Torquay Boardriders Club
BEGIN:VEVENT
DTSTART;TZID=Australia/Melbourne:20190330T073000
DTEND;TZID=Australia/Melbourne:20190330T170000
DTSTAMP:20190227T194907
CREATED:20181229T043436Z
LAST-MODIFIED:20181229T043436Z
UID:418-1553931000-1553965200@torquayboardriders.org.au
SUMMARY:Juniors Agg 3
DESCRIPTION:
URL:http://torquayboardriders.org.au/events/juniors-agg-3-2/
LOCATION:Jan Juc
CATEGORIES:Aggregate,Junior
END:VEVENT
END:VCALENDAR