BEGIN:VCALENDAR
VERSION:2.0
PRODID:-//Torquay Boardriders Club - ECPv4.8.1//NONSGML v1.0//EN
CALSCALE:GREGORIAN
METHOD:PUBLISH
X-WR-CALNAME:Torquay Boardriders Club
X-ORIGINAL-URL:http://torquayboardriders.org.au
X-WR-CALDESC:Events for Torquay Boardriders Club
BEGIN:VEVENT
DTSTART;TZID=Australia/Melbourne:20190622T073000
DTEND;TZID=Australia/Melbourne:20190622T170000
DTSTAMP:20190227T194930
CREATED:20181229T043631Z
LAST-MODIFIED:20190106T000606Z
UID:424-1561188600-1561222800@torquayboardriders.org.au
SUMMARY:HELLS BELLS
DESCRIPTION:
URL:http://torquayboardriders.org.au/events/hells-bells-2/
LOCATION:Winkipop | Bells Beach
CATEGORIES:Aggregate,Specialty
END:VEVENT
END:VCALENDAR