BEGIN:VCALENDAR
VERSION:2.0
PRODID:-//Torquay Boardriders Club - ECPv4.8.1//NONSGML v1.0//EN
CALSCALE:GREGORIAN
METHOD:PUBLISH
X-WR-CALNAME:Torquay Boardriders Club
X-ORIGINAL-URL:http://torquayboardriders.org.au
X-WR-CALDESC:Events for Torquay Boardriders Club
BEGIN:VEVENT
DTSTART;TZID=Australia/Melbourne:20190223T073000
DTEND;TZID=Australia/Melbourne:20190223T170000
DTSTAMP:20190227T195049
CREATED:20181229T043331Z
LAST-MODIFIED:20181229T043331Z
UID:414-1550907000-1550941200@torquayboardriders.org.au
SUMMARY:Juniors Agg 2
DESCRIPTION:
URL:http://torquayboardriders.org.au/events/juniors-agg-2/
LOCATION:Jan Juc
CATEGORIES:Aggregate,Junior
END:VEVENT
END:VCALENDAR